BEGIN:VCALENDAR
VERSION:2.0
PRODID:-//Shelton State - ECPv6.15.20//NONSGML v1.0//EN
CALSCALE:GREGORIAN
METHOD:PUBLISH
X-WR-CALNAME:Shelton State
X-ORIGINAL-URL:https://www.sheltonstate.edu
X-WR-CALDESC:Events for Shelton State
REFRESH-INTERVAL;VALUE=DURATION:PT1H
X-Robots-Tag:noindex
X-PUBLISHED-TTL:PT1H
BEGIN:VTIMEZONE
TZID:UTC
BEGIN:STANDARD
TZOFFSETFROM:+0000
TZOFFSETTO:+0000
TZNAME:UTC
DTSTART:20210101T000000
END:STANDARD
END:VTIMEZONE
BEGIN:VEVENT
DTSTART;TZID=UTC:20220428T150000
DTEND;TZID=UTC:20220428T170000
DTSTAMP:20260419T100327
CREATED:20210513T193039Z
LAST-MODIFIED:20210513T194131Z
UID:9522-1651158000-1651165200@www.sheltonstate.edu
SUMMARY:Student Art Exhibition Award Reception
DESCRIPTION:
URL:https://www.sheltonstate.edu/event/student-art-exhibition-award-reception/
CATEGORIES:Fine Arts
END:VEVENT
BEGIN:VEVENT
DTSTART;TZID=UTC:20220428T193000
DTEND;TZID=UTC:20220428T193000
DTSTAMP:20260419T100327
CREATED:20210518T183806Z
LAST-MODIFIED:20210518T183806Z
UID:9536-1651174200-1651174200@www.sheltonstate.edu
SUMMARY:Shelton State Jazz Ensemble Spring Concert
DESCRIPTION:
URL:https://www.sheltonstate.edu/event/shelton-state-jazz-ensemble-spring-concert/
LOCATION:Bean Brown Theatre
CATEGORIES:Fine Arts
END:VEVENT
END:VCALENDAR