BEGIN:VCALENDAR
VERSION:2.0
PRODID:-//Shelton State - ECPv6.15.20//NONSGML v1.0//EN
CALSCALE:GREGORIAN
METHOD:PUBLISH
X-WR-CALNAME:Shelton State
X-ORIGINAL-URL:https://www.sheltonstate.edu
X-WR-CALDESC:Events for Shelton State
REFRESH-INTERVAL;VALUE=DURATION:PT1H
X-Robots-Tag:noindex
X-PUBLISHED-TTL:PT1H
BEGIN:VTIMEZONE
TZID:UTC
BEGIN:STANDARD
TZOFFSETFROM:+0000
TZOFFSETTO:+0000
TZNAME:UTC
DTSTART:20200101T000000
END:STANDARD
END:VTIMEZONE
BEGIN:VEVENT
DTSTART;TZID=UTC:20210315T080000
DTEND;TZID=UTC:20210315T123000
DTSTAMP:20260419T084706
CREATED:20210301T212955Z
LAST-MODIFIED:20210302T190427Z
UID:9192-1615795200-1615811400@www.sheltonstate.edu
SUMMARY:Spring Break Baseball Camp
DESCRIPTION:For registration information\, click here.
URL:https://www.sheltonstate.edu/event/spring-break-baseball-camp/2021-03-15/
CATEGORIES:Athletics
END:VEVENT
END:VCALENDAR